BEGIN:VCALENDAR
VERSION:2.0
PRODID:-//hacksw/handcal//NONSGML v1.0//EN
BEGIN:VEVENT
DTSTART:20220630T170000Z
DTEND:20220630T193000Z
LOCATION:Campus EDHEC Paris \n16, Rue du 4 septembre \n75002 PARIS
ORGANIZER;CN=ADELINE REGENT:MAILTO:adeline.regent@edhec.edu
SUMMARY:[PHYGITAL]  | RENCONTRES PRO  Conférence & Cocktail : "L'individuation marketing : l'IA au service de l'expérience client"
DESCRIPTION:Découvrez le 30 juin sur le Campus EDHEC Paris , une conférence sur le futur du marketing  de 19 h à 21h30 !\nPourquoi toutes les marques utilisent les mêmes mécanismes marketing sur les mêmes clients...
URL:https://alumni.edhec.edu/fr/event/-phygital-rencontres-pro-conference-cocktail-l-individuation-marketing-l-ia-au-service-de-l-experience-client/2022/06/30/20390
BEGIN:VALARM
TRIGGER:-P0DT1H0M0S
ACTION:DISPLAY
END:VALARM
END:VEVENT
END:VCALENDAR