BEGIN:VCALENDAR
VERSION:2.0
PRODID:-//hacksw/handcal//NONSGML v1.0//EN
BEGIN:VEVENT
DTSTART:20220705T163000Z
DTEND:20220705T173000Z
LOCATION:https://us06web.zoom.us/j/9266250727?pwd=L2FJYUtXQmNScEpIVHJudTNWV2tEQT09
ORGANIZER;CN=ADELINE REGENT:MAILTO:adeline.regent@edhec.edu
SUMMARY:[WEBINAIRE] - RENCONTRES PRO | Blockchain et impact
DESCRIPTION:Code d'accès du webinar EDHEC...
URL:https://alumni.edhec.edu/fr/event/-webinaire-rencontres-pro-blockchain-et-impact/2022/07/05/20387
BEGIN:VALARM
TRIGGER:-P0DT1H0M0S
ACTION:DISPLAY
END:VALARM
END:VEVENT
END:VCALENDAR