BEGIN:VCALENDAR
VERSION:2.0
PRODID:-//hacksw/handcal//NONSGML v1.0//EN
BEGIN:VEVENT
DTSTART:20220708T103000Z
DTEND:20220708T120000Z
LOCATION:https://us06web.zoom.us/j/9266250727?pwd=L2FJYUtXQmNScEpIVHJudTNWV2tEQT09
ORGANIZER;CN=ADELINE REGENT:MAILTO:adeline.regent@edhec.edu
SUMMARY:Conférence interactive et expérientielle : Connecte-toi à ton potentiel et repars inspiré !
DESCRIPTION:Code d'accès du webinar EDHEC...
URL:https://alumni.edhec.edu/fr/event/conference-interactive-et-experientielle-connecte-toi-a-ton-potentiel-et-repars-inspire/2022/07/08/20386
BEGIN:VALARM
TRIGGER:-P0DT1H0M0S
ACTION:DISPLAY
END:VALARM
END:VEVENT
END:VCALENDAR