BEGIN:VCALENDAR
VERSION:2.0
PRODID:-//hacksw/handcal//NONSGML v1.0//EN
BEGIN:VEVENT
DTSTART:20220623T163000Z
DTEND:20220623T173000Z
LOCATION:https://us06web.zoom.us/j/9266250727?pwd=L2FJYUtXQmNScEpIVHJudTNWV2tEQT09
ORGANIZER;CN=ADELINE REGENT:MAILTO:adeline.regent@edhec.edu
SUMMARY:ALUMNI SUMMER SESSION |  Épanouissement des collaborateurs et performance de l’organisation, le mariage impossible ?
DESCRIPTION:Code d'accès du webinar EDHEC...
URL:https://alumni.edhec.edu/fr/event/alumni-summer-session-epanouissement-des-collaborateurs-et-performance-de-l-organisation-le-mariage-impossible/2022/06/23/20375
BEGIN:VALARM
TRIGGER:-P0DT1H0M0S
ACTION:DISPLAY
END:VALARM
END:VEVENT
END:VCALENDAR