BEGIN:VCALENDAR
VERSION:2.0
PRODID:-//hacksw/handcal//NONSGML v1.0//EN
BEGIN:VEVENT
DTSTART:20220623T103000Z
DTEND:20220623T113000Z
LOCATION:
ORGANIZER;CN=SILVIA MARICHALAR:MAILTO:silvia.marichalar.ext@edhec.edu
SUMMARY:Carrière: Alumni Summer Session webinar "Building your Personal Branding"
DESCRIPTION:EDHEC Career Centre for life invite you to participate to the Alumni Summer Session webinar:Building your Personal BrandingYou’re looking for your next career opportunity and you want to make a real...
URL:https://alumni.edhec.edu/fr/event/carriere-alumni-summer-session-webinar-building-your-personal-branding/2022/06/23/20275
BEGIN:VALARM
TRIGGER:-P0DT1H0M0S
ACTION:DISPLAY
END:VALARM
END:VEVENT
END:VCALENDAR