BEGIN:VCALENDAR
VERSION:2.0
PRODID:-//hacksw/handcal//NONSGML v1.0//EN
BEGIN:VEVENT
DTSTART:20220705T103000Z
DTEND:20220705T113000Z
LOCATION:
ORGANIZER;CN=SILVIA MARICHALAR:MAILTO:silvia.marichalar.ext@edhec.edu
SUMMARY:Carrière: Webinaire Alumni Summer Session "Comment développer son assertivité ?"
DESCRIPTION:EDHEC Career Centre for life t'invite à participer au webinaire de l'Alumni Summer Session:Comment développer son assertivité ?L'assertivité, ou comportement assertif, est un concept de la première...
URL:https://alumni.edhec.edu/fr/event/carriere-webinaire-alumni-summer-session-comment-developper-son-assertivite/2022/07/05/20187
BEGIN:VALARM
TRIGGER:-P0DT1H0M0S
ACTION:DISPLAY
END:VALARM
END:VEVENT
END:VCALENDAR