BEGIN:VCALENDAR
VERSION:2.0
PRODID:-//hacksw/handcal//NONSGML v1.0//EN
BEGIN:VEVENT
DTSTART:20211129T180000Z
DTEND:20211129T193000Z
LOCATION:Campus EDHEC de Paris \n18, rue du 4 septembre \n75002 Paris
ORGANIZER;CN=STEPHANIE PAINCHAULT:MAILTO:stephanie.painchault@edhec.edu
SUMMARY:Qu'est-ce que la finance éthique et solidaire ?
DESCRIPTION:Concilier rendement financier et impact environnemental/social positif est-il possible ? Ces mots paraissent antinomiques et pourtant ils existent de plus en plus d’acteurs qui se mettent en chemin...
URL:https://alumni.edhec.edu/fr/event/qu-est-ce-que-la-finance-ethique-et-solidaire/2021/11/29/20043
BEGIN:VALARM
TRIGGER:-P0DT1H0M0S
ACTION:DISPLAY
END:VALARM
END:VEVENT
END:VCALENDAR