BEGIN:VCALENDAR
VERSION:2.0
PRODID:-//hacksw/handcal//NONSGML v1.0//EN
BEGIN:VEVENT
DTSTART:20210702T180000
DTEND:20210702T193000
LOCATION:https://eu.bbcollab.com/guest/e6e98a5796ed4d4a88c2cc8917850e22
ORGANIZER;CN=STEPHANIE PAINCHAULT:MAILTO:stephanie.painchault@edhec.edu
SUMMARY:ATELIERS : Dynamique de groupe et soutien d'un coach !
DESCRIPTION:\nTu es en phase active de recherche d'emploi ou de construction de ton projet professionnel ? Tu souhaites t'investir dans un programme mêlant partage d'expériences et exercices pratiques ?Ces...
URL:https://alumni.edhec.edu/fr/event/ateliers-dynamique-de-groupe-et-soutien-d-un-coach/2021/07/02/19869
BEGIN:VALARM
TRIGGER:-P0DT1H0M0S
ACTION:DISPLAY
END:VALARM
END:VEVENT
END:VCALENDAR