BEGIN:VCALENDAR
VERSION:2.0
PRODID:-//hacksw/handcal//NONSGML v1.0//EN
BEGIN:VEVENT
DTSTART:20121206T193000
DTEND:20121206T220000
LOCATION:EDHEC Business School PARIS \n18 rue du Quatre Septembre \n75002 PARIS
ORGANIZER;CN=EDHEC Alumni:MAILTO:
SUMMARY:Club Culture et Media : A la rencontre des artistes issus de l'EDHEC !
DESCRIPTION:Evènement : Le Club Culture et Media est très heureux de mettre à l’honneur les artistes professionnels issus de l’Edhec !Retour sur des parcours atypiques où l'Edhec a pourtant joué un rôle, de...
URL:https://alumni.edhec.edu/fr/event/club-culture-et-media-a-la-rencontre-des-artistes-issus-de-l-edhec/2012/12/06/18108
BEGIN:VALARM
TRIGGER:-P0DT1H0M0S
ACTION:DISPLAY
END:VALARM
END:VEVENT
END:VCALENDAR