BEGIN:VCALENDAR
VERSION:2.0
PRODID:-//hacksw/handcal//NONSGML v1.0//EN
BEGIN:VEVENT
DTSTART:20160414T184500
DTEND:20160414T220000
LOCATION:Edhec Paris \n16 rue du 4 Septembre \n75002 Paris & Streaming
ORGANIZER;CN=EDHEC Alumni:MAILTO:
SUMMARY:Conférence Grands témoins : Les futurs business models des média
DESCRIPTION:Le Club Culture & Média de l’Edhec est ravi de vous convier à son nouvel événementle 14 avril prochain à 19h00 précises au siège parisien de l’Edhec, 16 rue du 4 Septembre à Paris.\nL’industrie des...
URL:https://alumni.edhec.edu/fr/event/conference-grands-temoins-les-futurs-business-models-des-media/2016/04/14/15781
BEGIN:VALARM
TRIGGER:-P0DT1H0M0S
ACTION:DISPLAY
END:VALARM
END:VEVENT
END:VCALENDAR