BEGIN:VCALENDAR
VERSION:2.0
PRODID:-//hacksw/handcal//NONSGML v1.0//EN
BEGIN:VEVENT
DTSTART:20161201T190000
DTEND:20161201T233000
LOCATION:Campus EDHEC de Paris \n18 rue du Quatre Septembre \n75002 Paris & Streaming
ORGANIZER;CN=EDHEC Alumni:MAILTO:
SUMMARY:Quels nouveaux modes de financement pour la culture en 2016 ? - Paris & Streaming
DESCRIPTION: Le Club Culture et Médias vous invite à la conférence :Culture & Business : quels nouveaux modes de financement pour la Culture en 2016 ?Le jeudi 1er décembre à partir de 19H\nau Campus EDHEC de...
URL:https://alumni.edhec.edu/fr/event/quels-nouveaux-modes-de-financement-pour-la-culture-en-2016-paris-streaming/2016/12/01/15478
BEGIN:VALARM
TRIGGER:-P0DT1H0M0S
ACTION:DISPLAY
END:VALARM
END:VEVENT
END:VCALENDAR