BEGIN:VCALENDAR
VERSION:2.0
PRODID:-//hacksw/handcal//NONSGML v1.0//EN
BEGIN:VEVENT
DTSTART:20181024T190000
DTEND:20181024T210000
LOCATION:Consulat général de France  \nAv. Presidente Antonio Carlos 58
ORGANIZER;CN=EDHEC Alumni:MAILTO:
SUMMARY:EDHEC Alumni Brésil | Réception Grand écoles Consulat général de France de Rio
DESCRIPTION:Madame, Monsieur,\n \nJe vous prie de bien vouloir trouver ci-joint l’invitation de Monsieur le Consul Général de France à Rio de Janeiro (Brésil) pour la première rencontre Alumni des Grandes Ecoles ...
URL:https://alumni.edhec.edu/fr/event/edhec-alumni-bresil-reception-grand-ecoles-consulat-general-de-france-de-rio/2018/10/24/14476
BEGIN:VALARM
TRIGGER:-P0DT1H0M0S
ACTION:DISPLAY
END:VALARM
END:VEVENT
END:VCALENDAR