BEGIN:VCALENDAR
VERSION:2.0
PRODID:-//hacksw/handcal//NONSGML v1.0//EN
BEGIN:VEVENT
DTSTART:20260430T160000Z
DTEND:20260430T190000Z
LOCATION:Les Halles de l'Île \n1, Place de l'Ile \n1204 GENEVE
ORGANIZER;CN=PHILIPPE MARAVAL - Suisse Romande | Genève:MAILTO:philippe.maraval@edhec.com
SUMMARY:Afterwork Inter-Écoles - Avril 2026
DESCRIPTION:Bonjour à tous,\nPrêts pour le prochain rendez-vous ? La communauté genevoise se réunit le jeudi 30 avril dès 18h pour une nouvelle édition de nos Afterworks.\nNous poserons nos valises aux Halles de ...
URL:https://alumni.edhec.edu/en/group/suisse-romande-geneve/84/calendar/afterwork-inter-ecoles-avril-2026/2026/04/30/22850
BEGIN:VALARM
TRIGGER:-P0DT1H0M0S
ACTION:DISPLAY
END:VALARM
END:VEVENT
END:VCALENDAR