BEGIN:VCALENDAR
VERSION:2.0
PRODID:-//hacksw/handcal//NONSGML v1.0//EN
BEGIN:VEVENT
DTSTART:20260519T170000Z
DTEND:20260519T193000Z
LOCATION:Wine more Time  \n8, Rue Saint-James \n33000 BORDEAUX
ORGANIZER;CN=BRIGITTE MAISSA - France | Nouvelle-Aquitaine (Bordeaux):MAILTO:brigitte.maissa@edhec.edu
SUMMARY:Afterwork au "Wine more time"
DESCRIPTION:EDHEC Alumni Bordeaux te propose une soirée afterwork le mardi 19 mai 2026 au Bar à vin « Wine More Time » à partir de 19h00.\nAu-delà de l’aspect convivialité, cette soirée sera l’occasion de...
URL:https://alumni.edhec.edu/en/group/france-nouvelle-aquitaine-bordeaux/92/calendar/afterwork-au-wine-more-time/2026/05/19/22846
BEGIN:VALARM
TRIGGER:-P0DT1H0M0S
ACTION:DISPLAY
END:VALARM
END:VEVENT
END:VCALENDAR