BEGIN:VCALENDAR
VERSION:2.0
PRODID:-//hacksw/handcal//NONSGML v1.0//EN
BEGIN:VEVENT
DTSTART:20260413T160000Z
DTEND:20260413T200000Z
LOCATION:Campus Paris
ORGANIZER;CN=CLEMENTINE GEYELIN - Net Positive Business:MAILTO:clemang@msn.com
SUMMARY:« De-risking Deals » - Transformer les risques climatiques en levier de valorisation et de fluidité des transactions
DESCRIPTION:Invitation – Table ronde & cocktailWeastem et Scientific Climate Ratings ont le plaisir de vous convier à un échange consacré à un sujet qui apparaît désormais de plus en plus concrètement dans les...
URL:https://alumni.edhec.edu/en/group/net-positive-business/995/calendar/-de-risking-deals-transformer-les-risques-climatiques-en-levier-de-valorisation-et-de-fluidite-des-transactions/2026/04/13/22823
BEGIN:VALARM
TRIGGER:-P0DT1H0M0S
ACTION:DISPLAY
END:VALARM
END:VEVENT
END:VCALENDAR