BEGIN:VCALENDAR
VERSION:2.0
PRODID:-//hacksw/handcal//NONSGML v1.0//EN
BEGIN:VEVENT
DTSTART:20261107T123000Z
DTEND:20261107T183000Z
LOCATION:EDHEC BUSINESS SCHOOL \n372, Rue Verte \n59170 CROIX
ORGANIZER;CN=VERONIQUE DONAGHY:MAILTO:veronique.donaghy@edhec.edu
SUMMARY:Promo 1976 : déjà 50 ans !
DESCRIPTION:On n'a pas tous les jours 50 ans !Impossible de ne pas honorer ce grand rendez-vous pour les 50 ans de notre promotion. Je vous donne rendez-vous le samedi 7 novembre 2026 sur le campus de...
URL:https://alumni.edhec.edu/en/event/promo-1976-deja-50-ans/2026/11/07/22800
BEGIN:VALARM
TRIGGER:-P0DT1H0M0S
ACTION:DISPLAY
END:VALARM
END:VEVENT
END:VCALENDAR