BEGIN:VCALENDAR
VERSION:2.0
PRODID:-//hacksw/handcal//NONSGML v1.0//EN
BEGIN:VEVENT
DTSTART:20260713T163000Z
DTEND:20260713T180000Z
LOCATION:https://teams.microsoft.com/meet/47409685888704?p=twyGadjPwV8ZTdClHx
ORGANIZER;CN=GERALDINE SIMON - EDHEC Alumni Data & AI:MAILTO:geraldine.simon@edhec.edu
SUMMARY:“AI & Marketing” by Bangcast : Module 6/6: Leverage Intelligence and Data for Better Decision-Making with AI
DESCRIPTION:Bangcast “AI & Marketing” Training Program:The Must-Have Skills to Perform in 2026 Module 6/6: Leverage Intelligence and Data for Better Decision-Making with AI🔴 LIVE TRAINING Date and time : Monday, ...
URL:https://alumni.edhec.edu/en/group/edhec-alumni-data-ai/1120/calendar/-ai-marketing-by-bangcast-module-6-6-leverage-intelligence-and-data-for-better-decision-making-with-ai/2026/07/13/22799
BEGIN:VALARM
TRIGGER:-P0DT1H0M0S
ACTION:DISPLAY
END:VALARM
END:VEVENT
END:VCALENDAR