BEGIN:VCALENDAR
VERSION:2.0
PRODID:-//hacksw/handcal//NONSGML v1.0//EN
BEGIN:VEVENT
DTSTART:20260615T163000Z
DTEND:20260615T180000Z
LOCATION:https://teams.microsoft.com/meet/49428724163650?p=m7xYa1TZHL27g1h44J
ORGANIZER;CN=GERALDINE SIMON - EDHEC Alumni Data & AI:MAILTO:geraldine.simon@edhec.edu
SUMMARY:“AI & Marketing” by Bangcast : Module 5/6: Creating Business Presentations, Visuals, and Videos with AI
DESCRIPTION:Bangcast “AI & Marketing” Training Program:The Must-Have Skills to Perform in 2026 Module 5/6: Creating Business Presentations, Visuals, and Videos with AI 🔴 LIVE TRAINING Date and time : Monday, June...
URL:https://alumni.edhec.edu/en/group/edhec-alumni-data-ai/1120/calendar/-ai-marketing-by-bangcast-module-5-6-creating-business-presentations-visuals-and-videos-with-ai/2026/06/15/22798
BEGIN:VALARM
TRIGGER:-P0DT1H0M0S
ACTION:DISPLAY
END:VALARM
END:VEVENT
END:VCALENDAR