BEGIN:VCALENDAR
VERSION:2.0
PRODID:-//hacksw/handcal//NONSGML v1.0//EN
BEGIN:VEVENT
DTSTART:20260527T153000Z
DTEND:20260527T190000Z
LOCATION:A la Grande Orangerie de Berne \n94, Elfenauweg \n3006 BERN
ORGANIZER;CN=MARGOT DOYE - Suisse Romande | Genève:MAILTO:margot.doye@edhec.edu
SUMMARY:SAVE THE DATE ! - Célébrons les alumni de l'enseignement supérieur français en Suisse | Berne, 27 mai 2026
DESCRIPTION:Vous avez étudié en France durant vos études supérieures ? Participé à un échange ?\n Vous étudiez ou travaillez aujourd’hui en Suisse ? Save The Date ! L’Ambassade de France en Suisse et au...
URL:https://alumni.edhec.edu/en/group/suisse-romande-geneve/84/calendar/save-the-date-celebrons-les-alumni-de-l-enseignement-superieur-francais-en-suisse-berne-27-mai-2026/2026/05/27/22795
BEGIN:VALARM
TRIGGER:-P0DT1H0M0S
ACTION:DISPLAY
END:VALARM
END:VEVENT
END:VCALENDAR