BEGIN:VCALENDAR
VERSION:2.0
PRODID:-//hacksw/handcal//NONSGML v1.0//EN
BEGIN:VEVENT
DTSTART:20260608T163000Z
DTEND:20260608T180000Z
LOCATION:https://teams.microsoft.com/meet/42714441293925?p=FqDsCpaaYGcTKrzvfB
ORGANIZER;CN=GERALDINE SIMON - EDHEC Alumni Data & AI:MAILTO:geraldine.simon@edhec.edu
SUMMARY:“IA & Marketing” par Bangcast : Module 5/6 : Créer des présentations, visuels et vidéos business avec l’IA
DESCRIPTION:Parcours de formation “IA & Marketing” par Bangcast | PALO IT AcademyLes incontournables pour performer en 2026 Module 5/6 : Créer des présentations, visuels et vidéos business avec l’IA 🔴 SESSION...
URL:https://alumni.edhec.edu/en/group/edhec-alumni-data-ai/1120/calendar/-ia-marketing-par-bangcast-module-5-6-creer-des-presentations-visuels-et-videos-business-avec-l-ia/2026/06/08/22794
BEGIN:VALARM
TRIGGER:-P0DT1H0M0S
ACTION:DISPLAY
END:VALARM
END:VEVENT
END:VCALENDAR