BEGIN:VCALENDAR
VERSION:2.0
PRODID:-//hacksw/handcal//NONSGML v1.0//EN
BEGIN:VEVENT
DTSTART:20260413T173000Z
DTEND:20260413T203000Z
LOCATION:Eight Advisory  \n37, Rue La Boétie \n75008 PARIS
ORGANIZER;CN=ADELINE REGENT - Private Equity:MAILTO:adeline.regent@edhec.edu
SUMMARY:COMPLET Club Private Equity | Inside the deal : Les clés d'une transaction M&A réussie
DESCRIPTION:Le Club Private Equity d’EDHEC Alumni a le plaisir de vous convier à une soirée exclusive consacrée aux enjeux actuels des processus de fusions-acquisitions (M&A) et aux attentes des fonds de Private ...
URL:https://alumni.edhec.edu/en/group/private-equity/1262/calendar/-complet-club-private-equity-inside-the-deal-les-cles-d-une-transaction-m-a-reussie/2026/04/13/22780
BEGIN:VALARM
TRIGGER:-P0DT1H0M0S
ACTION:DISPLAY
END:VALARM
END:VEVENT
END:VCALENDAR