BEGIN:VCALENDAR
VERSION:2.0
PRODID:-//hacksw/handcal//NONSGML v1.0//EN
BEGIN:VEVENT
DTSTART:20260312T083000Z
DTEND:20260312T103000Z
LOCATION:Lefroy House \n1, O'Connell Street Lower
ORGANIZER;CN=ANAELLE LEOST - Ireland | Dublin:MAILTO:anaelle.leost@edhec.edu
SUMMARY:You're Invited: Café & Croissants with France Alumni Ireland
DESCRIPTION:Café & Croissants with France Alumni Ireland & France Ireland Chamber of Commerce Lefroy House, Dublin Thursday 12th March - 8:30-10:30AMDear EDHEC Alumni in Dublin,Join France Alumni for a special...
URL:https://alumni.edhec.edu/en/group/ireland-dublin/74/calendar/you-re-invited-cafe-croissants-with-france-alumni-ireland/2026/03/12/22754
BEGIN:VALARM
TRIGGER:-P0DT1H0M0S
ACTION:DISPLAY
END:VALARM
END:VEVENT
END:VCALENDAR