BEGIN:VCALENDAR
VERSION:2.0
PRODID:-//hacksw/handcal//NONSGML v1.0//EN
BEGIN:VEVENT
DTSTART:20260325T180000Z
DTEND:20260325T203000Z
LOCATION:Campus EDHEC Paris \n16-18, Rue du 4 septembre \n75002 PARIS
ORGANIZER;CN=ADELINE REGENT:MAILTO:adeline.regent@edhec.edu
SUMMARY:Culture & Management | Le retour des formats longs ?
DESCRIPTION:À vos agendas ! Nous avons le plaisir de vous convier à notre prochain événement le mercredi 25 mars prochain, Le retour des formats longs dans la culture : la réappropriation du temps face à...
URL:https://alumni.edhec.edu/en/event/-culture-management-le-retour-des-formats-longs/2026/03/25/22750
BEGIN:VALARM
TRIGGER:-P0DT1H0M0S
ACTION:DISPLAY
END:VALARM
END:VEVENT
END:VCALENDAR