BEGIN:VCALENDAR
VERSION:2.0
PRODID:-//hacksw/handcal//NONSGML v1.0//EN
BEGIN:VEVENT
DTSTART:20260428T164500Z
DTEND:20260428T193000Z
LOCATION:Campus EDHEC Paris \n14, Rue du 4 septembre \n75002 PARIS
ORGANIZER;CN=LUCE KOEL - Luxe et Retail:MAILTO:luce.koel@edhec.com
SUMMARY:Club Luxe & Retail | Green is the New Gold : la révolution durable du luxe. L'Oréal Luxe - Louis Vuitton - Clarins
DESCRIPTION:\nLe luxe fait rêver. Mais peut-il encore se contenter de faire rêver ?\nDans un monde où les limites planétaires ne sont plus une projection mais une réalité, les maisons de luxe sont face à une...
URL:https://alumni.edhec.edu/en/group/luxe-et-retail/97/calendar/club-luxe-retail-green-is-the-new-gold-la-revolution-durable-du-luxe-l-oreal-luxe-louis-vuitton-clarins/2026/04/28/22746
BEGIN:VALARM
TRIGGER:-P0DT1H0M0S
ACTION:DISPLAY
END:VALARM
END:VEVENT
END:VCALENDAR