BEGIN:VCALENDAR
VERSION:2.0
PRODID:-//hacksw/handcal//NONSGML v1.0//EN
BEGIN:VEVENT
DTSTART:20260309T173000Z
DTEND:20260309T193000Z
LOCATION:https://bit.ly/4qz7SHU
ORGANIZER;CN=GERALDINE SIMON - EDHEC Alumni Data & AI:MAILTO:geraldine.simon@edhec.edu
SUMMARY:“IA & Marketing” par Bangcast : Module 2/6 : Construire sa stratégie marketing et commerciale annuelle avec l’IA
DESCRIPTION:Parcours de formation “IA & Marketing” par Bangcast Les incontournables pour performer en 2026 Module 2/6 : Construire sa stratégie marketing et commerciale annuelle avec l’IA  🔴 SESSION LIVE SANS...
URL:https://alumni.edhec.edu/en/group/edhec-alumni-data-ai/1120/calendar/-ia-marketing-par-bangcast-module-2-6-construire-sa-strategie-marketing-et-commerciale-annuelle-avec-l-ia/2026/03/09/22700
BEGIN:VALARM
TRIGGER:-P0DT1H0M0S
ACTION:DISPLAY
END:VALARM
END:VEVENT
END:VCALENDAR