BEGIN:VCALENDAR
VERSION:2.0
PRODID:-//hacksw/handcal//NONSGML v1.0//EN
BEGIN:VEVENT
DTSTART:20260324T113000Z
DTEND:20260324T123000Z
LOCATION:https://bit.ly/4rzq6tW
ORGANIZER;CN=ADELINE REGENT - Risques & Assurances:MAILTO:adeline.regent@edhec.edu
SUMMARY:Club Risques & Assurances | Webinaire - L’impact de l’IA sur les métiers de l’assurance : opportunités et risques Avec l’Observatoire de l’Évolution des Métiers de l’Assurance (OEMA)
DESCRIPTION:Automatisation, IA générative, aide à la décision, relation client… l’intelligence artificielle transforme en profondeur le secteur de l’assurance, en redessinant les métiers et les pratiques.Quels...
URL:https://alumni.edhec.edu/en/group/risques-assurances/1106/calendar/club-risques-assurances-webinaire-l-impact-de-l-ia-sur-les-metiers-de-l-assurance-opportunites-et-risques-avec-l-observatoire-de-l-evolution-des-metiers-de-l-assurance-oema/2026/03/24/22690
BEGIN:VALARM
TRIGGER:-P0DT1H0M0S
ACTION:DISPLAY
END:VALARM
END:VEVENT
END:VCALENDAR