BEGIN:VCALENDAR
VERSION:2.0
PRODID:-//hacksw/handcal//NONSGML v1.0//EN
BEGIN:VEVENT
DTSTART:20260217T174500Z
DTEND:20260217T203000Z
LOCATION:Progress Associés \n2, Rue de la Paix \n75002 PARIS
ORGANIZER;CN=ADELINE REGENT - Risques & Assurances:MAILTO:adeline.regent@edhec.edu
SUMMARY:Club Risques & Assurances – Les nouveaux leviers du succès des entreprises (Livre blanc – 2ᵉ édition)
DESCRIPTION:Livre blanc de l’Observatoire du succès – Seconde éditionEt si le succès d’une entreprise ne se résumait plus à ses seuls résultats financiers ?Quels sont aujourd’hui les véritables moteurs de...
URL:https://alumni.edhec.edu/en/group/risques-assurances/1106/calendar/club-risques-assurances-les-nouveaux-leviers-du-succes-des-entreprises-livre-blanc-2-edition/2026/02/17/22659
BEGIN:VALARM
TRIGGER:-P0DT1H0M0S
ACTION:DISPLAY
END:VALARM
END:VEVENT
END:VCALENDAR