BEGIN:VCALENDAR
VERSION:2.0
PRODID:-//hacksw/handcal//NONSGML v1.0//EN
BEGIN:VEVENT
DTSTART:20260217T173000Z
DTEND:20260217T183000Z
LOCATION:https://meet.google.com/aif-vffd-nnv
ORGANIZER;CN=CECILE LOYER:MAILTO:cecile.loyer@orange.fr
SUMMARY:Impact investing made accessible to all EDHEC alumni
DESCRIPTION:Webinar access code pas de code...
URL:https://alumni.edhec.edu/en/event/impact-investing-made-accessible-to-all-edhec-alumni/2026/02/17/22655
BEGIN:VALARM
TRIGGER:-P0DT1H0M0S
ACTION:DISPLAY
END:VALARM
END:VEVENT
END:VCALENDAR