BEGIN:VCALENDAR
VERSION:2.0
PRODID:-//hacksw/handcal//NONSGML v1.0//EN
BEGIN:VEVENT
DTSTART:20260205T180000Z
DTEND:20260205T200000Z
LOCATION:Brewdog Berlin Mitte \n29, Ackerstraße \n10115 BERLIN
ORGANIZER;CN=MARGOT DOYE - Allemagne | Berlin:MAILTO:margot.doye@edhec.edu
SUMMARY:EDHEC Alumni Afterwork with GETT – Berlin | February 5 @Brewdog
DESCRIPTION:Dear EDHEC Alumni,You are invited to an EDHEC Alumni Afterwork in Berlin on Thursday, February 5We will welcome Sébastien Dieuaide, Director of the Global Master in Management (GETT) at EDHEC Business...
URL:https://alumni.edhec.edu/en/group/allemagne-berlin/76/calendar/edhec-alumni-afterwork-with-gett-berlin-february-5-brewdog/2026/02/05/22644
BEGIN:VALARM
TRIGGER:-P0DT1H0M0S
ACTION:DISPLAY
END:VALARM
END:VEVENT
END:VCALENDAR