BEGIN:VCALENDAR
VERSION:2.0
PRODID:-//hacksw/handcal//NONSGML v1.0//EN
BEGIN:VEVENT
DTSTART:20260218T180000Z
DTEND:20260218T200000Z
LOCATION:Kanarie Club \n51, Bellamyplein \n1053 AT AMSTERDAM
ORGANIZER;CN=MARGOT DOYE - Pays Bas | Amsterdam:MAILTO:margot.doye@edhec.edu
SUMMARY:Networking Afterwork with GMBA
DESCRIPTION:Dear Alumni, \nThe GMBA is coming to your town!To mark the occasion, we are organising an after-work so we can meet you all!As a special highlight, Silvia Marichalar, EDHEC Alumni Executive Career...
URL:https://alumni.edhec.edu/en/group/pays-bas-amsterdam/46/calendar/networking-afterwork-with-gmba/2026/02/18/22641
BEGIN:VALARM
TRIGGER:-P0DT1H0M0S
ACTION:DISPLAY
END:VALARM
END:VEVENT
END:VCALENDAR