BEGIN:VCALENDAR
VERSION:2.0
PRODID:-//hacksw/handcal//NONSGML v1.0//EN
BEGIN:VEVENT
DTSTART:20251119T180000Z
DTEND:20251119T200000Z
LOCATION:Libreria MaMì \n2, Via Temistocle Calzecchi \n20133 MILANO
ORGANIZER;CN=RALUCA TURCU - Italie | Milan:MAILTO:
SUMMARY:Welcome Party 2025 in Milan
DESCRIPTION:Dear Alumni,We’re delighted to invite you to our Alumni Welcome Party at MaMì, Milan. This evening is for you,  dedicated to reconnecting, meeting new members, and celebrating the start of a new...
URL:https://alumni.edhec.edu/en/group/italie-milan/71/calendar/welcome-party-2025-in-milan/2025/11/19/22559
BEGIN:VALARM
TRIGGER:-P0DT1H0M0S
ACTION:DISPLAY
END:VALARM
END:VEVENT
END:VCALENDAR