BEGIN:VCALENDAR
VERSION:2.0
PRODID:-//hacksw/handcal//NONSGML v1.0//EN
BEGIN:VEVENT
DTSTART:20251120T173000Z
DTEND:20251120T220000Z
LOCATION:L’Alsace à Boire \n14, Rue du 22 Novembre \n67000 STRASBOURG
ORGANIZER;CN=AMANDINE MAZENC - France | Grand-Est (Strasbourg):MAILTO:mazenc.amandine@gmail.com
SUMMARY:Afterwork EDHEC le 20 novembre à Strasbourg
DESCRIPTION:Chers Alumni,Nous avons le plaisir de vous convier à un afterwork convivial spécialement dédié aux diplômés de l’EDHEC, dans le cadre chaleureux et authentique de L’Alsace à Boire, en plein cœur de...
URL:https://alumni.edhec.edu/en/group/france-grand-est-strasbourg/89/calendar/afterwork-edhec-le-20-novembre-a-strasbourg/2025/11/20/22547
BEGIN:VALARM
TRIGGER:-P0DT1H0M0S
ACTION:DISPLAY
END:VALARM
END:VEVENT
END:VCALENDAR