BEGIN:VCALENDAR
VERSION:2.0
PRODID:-//hacksw/handcal//NONSGML v1.0//EN
BEGIN:VEVENT
DTSTART:20251106T181500Z
DTEND:20251106T210000Z
LOCATION:RAISE INVEST \n39, Boulevard de la Tour-Maubourg \n75007 PARIS
ORGANIZER;CN=ADELINE REGENT - Private Equity:MAILTO:adeline.regent@edhec.edu
SUMMARY:COMPLET Soirée de lancemement du Club Private Equity
DESCRIPTION:Le Private Equity réunit des acteurs essentiels à chaque étape de la vie des entreprises. Le 6 novembre 2025, EDHEC Alumni lancera son Club Private Equity chez RAISE, lors d’une soirée dédiée aux...
URL:https://alumni.edhec.edu/en/group/private-equity/1262/calendar/-complet-soiree-de-lancemement-du-club-private-equity/2025/11/06/22486
BEGIN:VALARM
TRIGGER:-P0DT1H0M0S
ACTION:DISPLAY
END:VALARM
END:VEVENT
END:VCALENDAR