BEGIN:VCALENDAR
VERSION:2.0
PRODID:-//hacksw/handcal//NONSGML v1.0//EN
BEGIN:VEVENT
DTSTART:20251106T113000Z
DTEND:20251106T123000Z
LOCATION:http://bit.ly/4h0wqqg
ORGANIZER;CN=BRIGITTE MAISSA:MAILTO:brigitte.maissa@edhec.edu
SUMMARY:ALUMNI VOICES - Piloter les risques et assurances d’un grand groupe international avec Fanny SPINETTA - ENGIE - French session
DESCRIPTION:Les Alumni partagent en live leurs parcours carrière avec les étudiants. Session en Français.Comment anticipe-t-on les risques et protège-t-on les activités d’un grand groupe industriel ?Participe à...
URL:https://alumni.edhec.edu/en/event/alumni-voices-piloter-les-risques-et-assurances-d-un-grand-groupe-international-avec-fanny-spinetta-engie-french-session/2025/11/06/22483
BEGIN:VALARM
TRIGGER:-P0DT1H0M0S
ACTION:DISPLAY
END:VALARM
END:VEVENT
END:VCALENDAR