BEGIN:VCALENDAR
VERSION:2.0
PRODID:-//hacksw/handcal//NONSGML v1.0//EN
BEGIN:VEVENT
DTSTART:20251009T163000Z
DTEND:20251009T193000Z
LOCATION:Campus EDHEC Paris \n16, Rue de Choiseul \n75009 PARIS
ORGANIZER;CN=ADELINE REGENT:MAILTO:adeline.regent@edhec.edu
SUMMARY:WELCOME PARTY PARIS 2025
DESCRIPTION:The EDHEC Welcome Party is back !\nStudents, gap year students, interns in Paris, recent graduates and experienced alumni: don't miss the must-attend back-to-school event that brings together the...
URL:https://alumni.edhec.edu/en/event/welcome-party-paris-2025/2025/10/09/22408
BEGIN:VALARM
TRIGGER:-P0DT1H0M0S
ACTION:DISPLAY
END:VALARM
END:VEVENT
END:VCALENDAR