BEGIN:VCALENDAR
VERSION:2.0
PRODID:-//hacksw/handcal//NONSGML v1.0//EN
BEGIN:VEVENT
DTSTART:20250806T113000Z
DTEND:20250806T120000Z
LOCATION:Robin Hood Pub, BTS Phrom Phong \n597/1-3 Sukhumvit Rd, Khlong Tan Nuea, Watthana, Bangkok 10110 \n10110 Bangkok
ORGANIZER;CN=SOFIANE MOROUCHE - Thaïlande:MAILTO:sofianemorouche@gmail.com
SUMMARY:Joint Networking Event EDHEC - ESSEC Alumni
DESCRIPTION:Dear EDHEC Alumnis in Thailand,\nWe are excited to announce our next event in Bangkok, a joint networking get together with ESSEC Business School alumnis in Thailand.\nDate: Wednesday 6th AugustTime: ...
URL:https://alumni.edhec.edu/en/group/thailande/125/calendar/joint-networking-event-edhec-essec-alumni/2025/08/06/22371
BEGIN:VALARM
TRIGGER:-P0DT1H0M0S
ACTION:DISPLAY
END:VALARM
END:VEVENT
END:VCALENDAR