BEGIN:VCALENDAR
VERSION:2.0
PRODID:-//hacksw/handcal//NONSGML v1.0//EN
BEGIN:VEVENT
DTSTART:20250717T170000Z
DTEND:20250717T210000Z
LOCATION:Péniche ILL VINO \n19a, Quai des Pêcheurs \n67000 STRASBOURG
ORGANIZER;CN=YANN RINCKENBERGER ISNARD - France | Grand-Est (Strasbourg):MAILTO:yann.rinckenbergerisnard@edhec.com
SUMMARY:EDHEC Rendez-Vous Strasbourg
DESCRIPTION:\nLes EDHEC Rendez-Vous sont de retour pour une saison exceptionnelle sur le thème\n« EDHEC by nature »Reconnecte-toi à l’esprit EDHEC lors d’une soirée immersive et festive, placée sous le signe des ...
URL:https://alumni.edhec.edu/en/group/france-grand-est-strasbourg/89/calendar/edhec-rendez-vous-strasbourg/2025/07/17/22356
BEGIN:VALARM
TRIGGER:-P0DT1H0M0S
ACTION:DISPLAY
END:VALARM
END:VEVENT
END:VCALENDAR