BEGIN:VCALENDAR
VERSION:2.0
PRODID:-//hacksw/handcal//NONSGML v1.0//EN
BEGIN:VEVENT
DTSTART:20250923T170000Z
DTEND:20250923T193000Z
LOCATION:Campus EDHEC Paris \n25, Rue de Gramont \n75002 PARIS
ORGANIZER;CN=ADELINE REGENT:MAILTO:adeline.regent@edhec.edu
SUMMARY:ALUMNI SUMMER SESSION | Clôture de l’Alumni Summer Session
DESCRIPTION:Après trois mois riches en événements, échanges et réflexions autour de la thématique « The Right Balance », EDHEC Alumni et le Career Center For Life vous invitent à célébrer la fin de l’Alumni...
URL:https://alumni.edhec.edu/en/event/-alumni-summer-session-cloture-de-l-alumni-summer-session/2025/09/23/22334
BEGIN:VALARM
TRIGGER:-P0DT1H0M0S
ACTION:DISPLAY
END:VALARM
END:VEVENT
END:VCALENDAR