BEGIN:VCALENDAR
VERSION:2.0
PRODID:-//hacksw/handcal//NONSGML v1.0//EN
BEGIN:VEVENT
DTSTART:20250528T110000Z
DTEND:20250528T150000Z
LOCATION:Golden State Restaurant & Bar \n3rd Floor RR Space, Sukhumvit 33 Alley, Khlong Tan Nuea, Watthana, Bangkok 10110 \n10110 Bangkok
ORGANIZER;CN=SOFIANE MOROUCHE - Thaïlande:MAILTO:sofianemorouche@gmail.com
SUMMARY:May 28th ! EDHEC Rendez-vous Thailand 2025 : EDHEC by Nature
DESCRIPTION:Dear EDHEC Alumni in Thailand,\nIt’s this time of the year…EDHEC Rendez-Vous is THE highlight of the year for the community! This year, the theme "EDHEC by Nature" honors the four elements: water,...
URL:https://alumni.edhec.edu/en/group/thailande/125/calendar/may-28th-edhec-rendez-vous-thailand-2025-edhec-by-nature/2025/05/28/22262
BEGIN:VALARM
TRIGGER:-P0DT1H0M0S
ACTION:DISPLAY
END:VALARM
END:VEVENT
END:VCALENDAR