BEGIN:VCALENDAR
VERSION:2.0
PRODID:-//hacksw/handcal//NONSGML v1.0//EN
BEGIN:VEVENT
DTSTART:20250612T163000Z
DTEND:20250612T203000Z
LOCATION:Maison Aubry - Milano (Porta Venezia) \n8, Via Felice Bellotti \n20129 MILANO
ORGANIZER;CN=ANNE LAURE POITEVIN - Italie | Milan:MAILTO:anne-laure.poitevin@edhec.com
SUMMARY:EDHEC RDV 2025 - EDHEC by NATURE Maison Aubry - Milano (Porta Venezia)
DESCRIPTION:>>>>>   THE EVENT WILL TAKE PLACE on THURSDAY, 12th of JUNE...
URL:https://alumni.edhec.edu/en/group/italie-milan/71/calendar/edhec-rdv-2025-edhec-by-nature-maison-aubry-milano-porta-venezia/2025/06/12/22246
BEGIN:VALARM
TRIGGER:-P0DT1H0M0S
ACTION:DISPLAY
END:VALARM
END:VEVENT
END:VCALENDAR