BEGIN:VCALENDAR
VERSION:2.0
PRODID:-//hacksw/handcal//NONSGML v1.0//EN
BEGIN:VEVENT
DTSTART:20250327T110000Z
DTEND:20250327T130000Z
LOCATION:Wework \n5th Floor, WeWork, No.1237 Fuxing Road, Shanghai
ORGANIZER;CN=MARGOT DOYE - Chine | Shanghai:MAILTO:margot.doye@edhec.edu
SUMMARY:EDHEC Alumni Spring Gathering in Shanghai :cherry_blossom:
DESCRIPTION:Join us for a relaxed and friendly evening with fellow EDHEC Alumni in Shanghai!\nIt's the perfect opportunity to reconnect, expand your network, and celebrate the arrival of spring together.🗓 Date:...
URL:https://alumni.edhec.edu/en/group/chine-shanghai/63/calendar/edhec-alumni-spring-gathering-in-shanghai-cherry-blossom/2025/03/27/22140
BEGIN:VALARM
TRIGGER:-P0DT1H0M0S
ACTION:DISPLAY
END:VALARM
END:VEVENT
END:VCALENDAR