BEGIN:VCALENDAR
VERSION:2.0
PRODID:-//hacksw/handcal//NONSGML v1.0//EN
BEGIN:VEVENT
DTSTART:20250325T180000Z
DTEND:20250325T203000Z
LOCATION:SITEM  \n9, Boulevard de la Madeleine \n75001 PARIS
ORGANIZER;CN=ADELINE REGENT:MAILTO:adeline.regent@edhec.edu
SUMMARY:Club Culture & Management | Une approche sociologique des organisations culturelles
DESCRIPTION:Ce débat prendra la forme d'un entretien avec un sociologue du travail qui nous éclairera sur l'organisation du travail dans le secteur culturel. Passion, engagement, workaholisme, surtravail, autant ...
URL:https://alumni.edhec.edu/en/event/club-culture-management-une-approche-sociologique-des-organisations-culturelles/2025/03/25/22089
BEGIN:VALARM
TRIGGER:-P0DT1H0M0S
ACTION:DISPLAY
END:VALARM
END:VEVENT
END:VCALENDAR