BEGIN:VCALENDAR
VERSION:2.0
PRODID:-//hacksw/handcal//NONSGML v1.0//EN
BEGIN:VEVENT
DTSTART:20241106T110000Z
DTEND:20241106T144000Z
LOCATION:JOE’S BILLARDS & BAR \n11, Knutsford Terrace
ORGANIZER;CN=BRUNO SEBAG - Chine | Hong Kong:MAILTO:bruno.sebag@edhec.com
SUMMARY:Joint alumni event in Hong Kong
DESCRIPTION:Hello all!A joint event of Alumnis from French business school and engineering school (Edhec, Centrale, Polytechnique, ESCP, EM Lyon, Science Po, Inalco..) will be host on Wednesday 6th November, 7pm,...
URL:https://alumni.edhec.edu/en/group/chine-hong-kong/41/calendar/joint-alumni-event-in-hong-kong/2024/11/06/21866
BEGIN:VALARM
TRIGGER:-P0DT1H0M0S
ACTION:DISPLAY
END:VALARM
END:VEVENT
END:VCALENDAR