BEGIN:VCALENDAR
VERSION:2.0
PRODID:-//hacksw/handcal//NONSGML v1.0//EN
BEGIN:VEVENT
DTSTART:20241003T160000Z
DTEND:20241003T200000Z
LOCATION:MUNCH Museum \n1, Edvard Munchs Plass
ORGANIZER;CN=MARGOT DOYE - Norvège:MAILTO:margot.doye@edhec.edu
SUMMARY:Welcome Party 2024 - Oslo
DESCRIPTION:Dear Alumni,We are pleased to invite you to the Welcome Party 2024 for EDHEC Alumni in Oslo! This is a great opportunity to reconnect, network, and welcome new members to our community.Event Details:📅...
URL:https://alumni.edhec.edu/en/group/norvege/112/calendar/-welcome-party-2024-oslo/2024/10/03/21755
BEGIN:VALARM
TRIGGER:-P0DT1H0M0S
ACTION:DISPLAY
END:VALARM
END:VEVENT
END:VCALENDAR