BEGIN:VCALENDAR
VERSION:2.0
PRODID:-//hacksw/handcal//NONSGML v1.0//EN
BEGIN:VEVENT
DTSTART:20240924T110000Z
DTEND:20240924T114500Z
LOCATION:https://us06web.zoom.us/j/81515535587
ORGANIZER;CN=CECILE LOYER:MAILTO:cecile.loyer@orange.fr
SUMMARY:EDHEC ALUMNI : WHAT'S NEW FOR THIS ACADEMIC YEAR @EDHEC ALUMNI? (Copie)
DESCRIPTION:It's back to school time... and it's high time you reconnected  to your EDHEC ALUMNI association!\nDuring this 45-minute webinar:• you'll get a refresher about the services that we can offer: alumni...
URL:https://alumni.edhec.edu/en/event/edhec-alumni-what-s-new-for-this-academic-year-edhec-alumni-copie/2024/09/24/21738
BEGIN:VALARM
TRIGGER:-P0DT1H0M0S
ACTION:DISPLAY
END:VALARM
END:VEVENT
END:VCALENDAR