BEGIN:VCALENDAR
VERSION:2.0
PRODID:-//hacksw/handcal//NONSGML v1.0//EN
BEGIN:VEVENT
DTSTART:20240911T103000Z
DTEND:20240911T113000Z
LOCATION:https://us06web.zoom.us/j/88387827005
ORGANIZER;CN=ADELINE REGENT:MAILTO:adeline.regent@edhec.edu
SUMMARY:ALUMNI SUMMER SESSION - INTERNATIONAL -How to successfully expatriate in Europe ?
DESCRIPTION:Wednesday, September 11, 2024, from 12:30 PM to 1:30 PM Paris time\nJoin us for an exclusive webinar dedicated to your expatriation to Europe. During this one-hour session, we will share key...
URL:https://alumni.edhec.edu/en/event/alumni-summer-session-international-how-to-successfully-expatriate-in-europe/2024/09/11/21697
BEGIN:VALARM
TRIGGER:-P0DT1H0M0S
ACTION:DISPLAY
END:VALARM
END:VEVENT
END:VCALENDAR