BEGIN:VCALENDAR
VERSION:2.0
PRODID:-//hacksw/handcal//NONSGML v1.0//EN
BEGIN:VEVENT
DTSTART:20241012T080000Z
DTEND:20241012T180000Z
LOCATION:EDHEC BUSINESS SCHOOL \n372 rue Verte \n59170 CROIX
ORGANIZER;CN=EDHEC Alumni:MAILTO:
SUMMARY:Ton Anniversaire de Promo MASTER/GRANDE ECOLE 1969
DESCRIPTION:Chers AmisL’intérêt marqué par ceux d’entre vous que j’ai pu contacter récemment par téléphone nous amène à vous proposer de nous retrouver au cours de la journée du 12 octobre organisée sur le Campus...
URL:https://alumni.edhec.edu/en/event/ton-anniversaire-de-promo-master-grande-ecole-1969/2024/10/12/21673
BEGIN:VALARM
TRIGGER:-P0DT1H0M0S
ACTION:DISPLAY
END:VALARM
END:VEVENT
END:VCALENDAR