BEGIN:VCALENDAR
VERSION:2.0
PRODID:-//hacksw/handcal//NONSGML v1.0//EN
BEGIN:VEVENT
DTSTART:20240830T101500Z
DTEND:20240830T113500Z
LOCATION:LÉONOR RESTAURANT \n11, Rue de la Nuée-Bleue \n67000 STRASBOURG
ORGANIZER;CN=AMANDINE MAZENC - France | Grand-Est (Strasbourg):MAILTO:mazenc.amandine@gmail.com
SUMMARY:LUNCH NETWORKING le 30 Août à Strasbourg
DESCRIPTION:Le club Alumni Alsace vous propose un déjeuner strasbourgeois dans un cadre intimiste avant d'attaquer vos réunions de la rentrée. En plus de vous restaurer, ce sera une belle occasion d'enrichir...
URL:https://alumni.edhec.edu/en/group/france-grand-est-strasbourg/89/calendar/lunch-networking-le-30-aout-a-strasbourg/2024/08/30/21668
BEGIN:VALARM
TRIGGER:-P0DT1H0M0S
ACTION:DISPLAY
END:VALARM
END:VEVENT
END:VCALENDAR