BEGIN:VCALENDAR
VERSION:2.0
PRODID:-//hacksw/handcal//NONSGML v1.0//EN
BEGIN:VEVENT
DTSTART:20240905T103000Z
DTEND:20240905T113000Z
LOCATION:https://eu.bbcollab.com/guest/33f4418727ed43efb13ac11a1827f935
ORGANIZER;CN=Marianne DHERS:MAILTO:marianne.dhers@edhec.edu
SUMMARY:ALUMNI SUMMER SESSION | Carrière - Webinaire : Construire sa prochaine réussite : Quel est l’accompagnement qu’il vous faut ?
DESCRIPTION:\nCoaching, bilan de compétences, RV carrière, Co-développement, Avarap, Tremplin …C’est toujours très utile d’être accompagné.e dans sa démarche de développement professionnel, mais il n’est parfois ...
URL:https://alumni.edhec.edu/en/event/alumni-summer-session-carriere-webinaire-construire-sa-prochaine-reussite-quel-est-l-accompagnement-qu-il-vous-faut/2024/09/05/21561
BEGIN:VALARM
TRIGGER:-P0DT1H0M0S
ACTION:DISPLAY
END:VALARM
END:VEVENT
END:VCALENDAR