BEGIN:VCALENDAR
VERSION:2.0
PRODID:-//hacksw/handcal//NONSGML v1.0//EN
BEGIN:VEVENT
DTSTART:20240910T103000Z
DTEND:20240910T113000Z
LOCATION:https://eu.bbcollab.com/guest/3607fa7ae80b4bf097e93b7669612698
ORGANIZER;CN=Marianne DHERS:MAILTO:marianne.dhers@edhec.edu
SUMMARY:ALUMNI SUMMER SESSION | Juridique - Carrière - Webinaire "Négocier son départ"
DESCRIPTION:EDHEC Career Centre for life t'invite à participer au webinaire : Négocier son départNégocier son départBref exposé sur les différents modes de rupture du contrat de travailPrésentation des différents...
URL:https://alumni.edhec.edu/en/event/alumni-summer-session-juridique-carriere-webinaire-negocier-son-depart/2024/09/10/21489
BEGIN:VALARM
TRIGGER:-P0DT1H0M0S
ACTION:DISPLAY
END:VALARM
END:VEVENT
END:VCALENDAR